BEGIN:VCALENDAR
VERSION:2.0
PRODID:-//Waadookodaading - ECPv6.15.17//NONSGML v1.0//EN
CALSCALE:GREGORIAN
METHOD:PUBLISH
X-WR-CALNAME:Waadookodaading
X-ORIGINAL-URL:http://3.18.248.39
X-WR-CALDESC:Events for Waadookodaading
REFRESH-INTERVAL;VALUE=DURATION:PT1H
X-Robots-Tag:noindex
X-PUBLISHED-TTL:PT1H
BEGIN:VTIMEZONE
TZID:America/Chicago
BEGIN:DAYLIGHT
TZOFFSETFROM:-0600
TZOFFSETTO:-0500
TZNAME:CDT
DTSTART:20230312T080000
END:DAYLIGHT
BEGIN:STANDARD
TZOFFSETFROM:-0500
TZOFFSETTO:-0600
TZNAME:CST
DTSTART:20231105T070000
END:STANDARD
BEGIN:DAYLIGHT
TZOFFSETFROM:-0600
TZOFFSETTO:-0500
TZNAME:CDT
DTSTART:20240310T080000
END:DAYLIGHT
BEGIN:STANDARD
TZOFFSETFROM:-0500
TZOFFSETTO:-0600
TZNAME:CST
DTSTART:20241103T070000
END:STANDARD
BEGIN:DAYLIGHT
TZOFFSETFROM:-0600
TZOFFSETTO:-0500
TZNAME:CDT
DTSTART:20250309T080000
END:DAYLIGHT
BEGIN:STANDARD
TZOFFSETFROM:-0500
TZOFFSETTO:-0600
TZNAME:CST
DTSTART:20251102T070000
END:STANDARD
END:VTIMEZONE
BEGIN:VEVENT
DTSTART;VALUE=DATE:20240424
DTEND;VALUE=DATE:20240425
DTSTAMP:20260421T112632
CREATED:20240312T212616Z
LAST-MODIFIED:20240312T212616Z
UID:2974-1713916800-1714003199@3.18.248.39
SUMMARY:P/T Conferences - 1/2 Day for Students  Spring Powwow
DESCRIPTION:
URL:http://3.18.248.39/event/p-t-conferences-1-2-day-for-students-spring-powwow/
END:VEVENT
BEGIN:VEVENT
DTSTART;VALUE=DATE:20240410
DTEND;VALUE=DATE:20240411
DTSTAMP:20260421T112632
CREATED:20240312T212518Z
LAST-MODIFIED:20240312T212518Z
UID:2972-1712707200-1712793599@3.18.248.39
SUMMARY:Waadookodaading School Board Meeting
DESCRIPTION:
URL:http://3.18.248.39/event/waadookodaading-school-board-meeting-2/
END:VEVENT
BEGIN:VEVENT
DTSTART;VALUE=DATE:20240403
DTEND;VALUE=DATE:20240404
DTSTAMP:20260421T112632
CREATED:20240312T212442Z
LAST-MODIFIED:20240312T212442Z
UID:2970-1712102400-1712188799@3.18.248.39
SUMMARY:Classes Resume
DESCRIPTION:
URL:http://3.18.248.39/event/classes-resume/
END:VEVENT
BEGIN:VEVENT
DTSTART;VALUE=DATE:20240328
DTEND;VALUE=DATE:20240403
DTSTAMP:20260421T112632
CREATED:20240312T212328Z
LAST-MODIFIED:20240312T212405Z
UID:2967-1711584000-1712102399@3.18.248.39
SUMMARY:Spring Break
DESCRIPTION:
URL:http://3.18.248.39/event/spring-break/
END:VEVENT
BEGIN:VEVENT
DTSTART;VALUE=DATE:20240328
DTEND;VALUE=DATE:20240329
DTSTAMP:20260421T112632
CREATED:20240312T212256Z
LAST-MODIFIED:20240312T212300Z
UID:2965-1711584000-1711670399@3.18.248.39
SUMMARY:WPC Meeting
DESCRIPTION:
URL:http://3.18.248.39/event/wpc-meeting/
END:VEVENT
BEGIN:VEVENT
DTSTART;VALUE=DATE:20240327
DTEND;VALUE=DATE:20240328
DTSTAMP:20260421T112632
CREATED:20240312T212120Z
LAST-MODIFIED:20240312T212120Z
UID:2963-1711497600-1711583999@3.18.248.39
SUMMARY:Easter Dinner - 1/2 day for students
DESCRIPTION:
URL:http://3.18.248.39/event/easter-dinner-1-2-day-for-students/
END:VEVENT
BEGIN:VEVENT
DTSTART;TZID=America/Chicago:20240326T170000
DTEND;TZID=America/Chicago:20240326T183000
DTSTAMP:20260421T112632
CREATED:20240315T150027Z
LAST-MODIFIED:20240315T150056Z
UID:3525-1711472400-1711477800@3.18.248.39
SUMMARY:Kindergarten Open House
DESCRIPTION:
URL:http://3.18.248.39/event/kindergarten-open-house/
END:VEVENT
BEGIN:VEVENT
DTSTART;VALUE=DATE:20240313
DTEND;VALUE=DATE:20240314
DTSTAMP:20260421T112632
CREATED:20240312T211935Z
LAST-MODIFIED:20240312T212031Z
UID:2961-1710288000-1710374399@3.18.248.39
SUMMARY:Waadookodaading School Board Meeting
DESCRIPTION:
URL:http://3.18.248.39/event/waadookodaading-school-board-meeting/
END:VEVENT
END:VCALENDAR