BEGIN:VCALENDAR
VERSION:2.0
PRODID:-//Waadookodaading - ECPv6.15.17//NONSGML v1.0//EN
CALSCALE:GREGORIAN
METHOD:PUBLISH
X-WR-CALNAME:Waadookodaading
X-ORIGINAL-URL:http://3.18.248.39
X-WR-CALDESC:Events for Waadookodaading
REFRESH-INTERVAL;VALUE=DURATION:PT1H
X-Robots-Tag:noindex
X-PUBLISHED-TTL:PT1H
BEGIN:VTIMEZONE
TZID:America/Chicago
BEGIN:DAYLIGHT
TZOFFSETFROM:-0600
TZOFFSETTO:-0500
TZNAME:CDT
DTSTART:20230312T080000
END:DAYLIGHT
BEGIN:STANDARD
TZOFFSETFROM:-0500
TZOFFSETTO:-0600
TZNAME:CST
DTSTART:20231105T070000
END:STANDARD
BEGIN:DAYLIGHT
TZOFFSETFROM:-0600
TZOFFSETTO:-0500
TZNAME:CDT
DTSTART:20240310T080000
END:DAYLIGHT
BEGIN:STANDARD
TZOFFSETFROM:-0500
TZOFFSETTO:-0600
TZNAME:CST
DTSTART:20241103T070000
END:STANDARD
BEGIN:DAYLIGHT
TZOFFSETFROM:-0600
TZOFFSETTO:-0500
TZNAME:CDT
DTSTART:20250309T080000
END:DAYLIGHT
BEGIN:STANDARD
TZOFFSETFROM:-0500
TZOFFSETTO:-0600
TZNAME:CST
DTSTART:20251102T070000
END:STANDARD
BEGIN:DAYLIGHT
TZOFFSETFROM:-0600
TZOFFSETTO:-0500
TZNAME:CDT
DTSTART:20260308T080000
END:DAYLIGHT
BEGIN:STANDARD
TZOFFSETFROM:-0500
TZOFFSETTO:-0600
TZNAME:CST
DTSTART:20261101T070000
END:STANDARD
END:VTIMEZONE
BEGIN:VEVENT
DTSTART;VALUE=DATE:20251219
DTEND;VALUE=DATE:20251220
DTSTAMP:20260421T055037
CREATED:20250903T214123Z
LAST-MODIFIED:20251215T173820Z
UID:6429-1766102400-1766188799@3.18.248.39
SUMMARY:1/2 Day for Students
DESCRIPTION:
URL:http://3.18.248.39/event/lco-holiday-concert-1-2-day-for-students/
END:VEVENT
BEGIN:VEVENT
DTSTART;VALUE=DATE:20251216
DTEND;VALUE=DATE:20251217
DTSTAMP:20260421T055037
CREATED:20250903T212807Z
LAST-MODIFIED:20250903T213113Z
UID:6427-1765843200-1765929599@3.18.248.39
SUMMARY:WPC Meeting
DESCRIPTION:
URL:http://3.18.248.39/event/wpc-meeting-4/
END:VEVENT
BEGIN:VEVENT
DTSTART;VALUE=DATE:20251210
DTEND;VALUE=DATE:20251211
DTSTAMP:20260421T055037
CREATED:20250903T211639Z
LAST-MODIFIED:20250903T211639Z
UID:6425-1765324800-1765411199@3.18.248.39
SUMMARY:Solstice Powwow AM PT Conerences  1/2 Day for Students
DESCRIPTION:
URL:http://3.18.248.39/event/solstice-powwow-am-pt-conerences-1-2-day-for-students/
END:VEVENT
BEGIN:VEVENT
DTSTART;VALUE=DATE:20251124
DTEND;VALUE=DATE:20251129
DTSTAMP:20260421T055037
CREATED:20250903T210419Z
LAST-MODIFIED:20250903T210825Z
UID:6418-1763942400-1764374399@3.18.248.39
SUMMARY:Fall Break Starts  Nov. 24th - 28th
DESCRIPTION:
URL:http://3.18.248.39/event/fall-break-2/
END:VEVENT
BEGIN:VEVENT
DTSTART;VALUE=DATE:20251118
DTEND;VALUE=DATE:20251119
DTSTAMP:20260421T055037
CREATED:20250903T210322Z
LAST-MODIFIED:20250903T210322Z
UID:6416-1763424000-1763510399@3.18.248.39
SUMMARY:WPC Meeting
DESCRIPTION:
URL:http://3.18.248.39/event/wpc-meeting-3/
END:VEVENT
BEGIN:VEVENT
DTSTART;VALUE=DATE:20251112
DTEND;VALUE=DATE:20251113
DTSTAMP:20260421T055037
CREATED:20250903T210146Z
LAST-MODIFIED:20250903T210146Z
UID:6414-1762905600-1762991999@3.18.248.39
SUMMARY:Veterans Day Observed No School
DESCRIPTION:
URL:http://3.18.248.39/event/veterans-day-observed-no-school-2/
END:VEVENT
BEGIN:VEVENT
DTSTART;VALUE=DATE:20251111
DTEND;VALUE=DATE:20251112
DTSTAMP:20260421T055037
CREATED:20250903T210058Z
LAST-MODIFIED:20250903T210058Z
UID:6412-1762819200-1762905599@3.18.248.39
SUMMARY:Veterans Day Powwow  No School
DESCRIPTION:
URL:http://3.18.248.39/event/veterans-day-powwow-no-school-2/
END:VEVENT
BEGIN:VEVENT
DTSTART;VALUE=DATE:20251031
DTEND;VALUE=DATE:20251101
DTSTAMP:20260421T055037
CREATED:20250903T205557Z
LAST-MODIFIED:20250903T205912Z
UID:6410-1761868800-1761955199@3.18.248.39
SUMMARY:End 1st Quarter  1/2 Day for Students
DESCRIPTION:
URL:http://3.18.248.39/event/end-1st-quarter-1-2-day-for-students/
END:VEVENT
BEGIN:VEVENT
DTSTART;TZID=America/Chicago:20251021T000000
DTEND;TZID=America/Chicago:20251025T235900
DTSTAMP:20260421T055037
CREATED:20250903T202935Z
LAST-MODIFIED:20250903T205322Z
UID:6394-1761004800-1761436740@3.18.248.39
SUMMARY:Red Ribbon Week Oct. 21 - 25
DESCRIPTION:
URL:http://3.18.248.39/event/red-ribbon-week/
END:VEVENT
BEGIN:VEVENT
DTSTART;VALUE=DATE:20251015
DTEND;VALUE=DATE:20251016
DTSTAMP:20260421T055037
CREATED:20250903T194306Z
LAST-MODIFIED:20250903T202547Z
UID:6378-1760486400-1760572799@3.18.248.39
SUMMARY:Harvest Powwow AM  Staff Development  1/2 Day Students
DESCRIPTION:
URL:http://3.18.248.39/event/harvest-powwow-am-staff-development-1-2-day-students/
END:VEVENT
BEGIN:VEVENT
DTSTART;VALUE=DATE:20251013
DTEND;VALUE=DATE:20251014
DTSTAMP:20260421T055037
CREATED:20250903T194126Z
LAST-MODIFIED:20250903T202338Z
UID:6375-1760313600-1760399999@3.18.248.39
SUMMARY:Indigenous People's Day - No School
DESCRIPTION:
URL:http://3.18.248.39/event/indigenous-peoples-day-no-school/
END:VEVENT
BEGIN:VEVENT
DTSTART;VALUE=DATE:20250930
DTEND;VALUE=DATE:20251001
DTSTAMP:20260421T055037
CREATED:20250903T193947Z
LAST-MODIFIED:20250903T193947Z
UID:6373-1759190400-1759276799@3.18.248.39
SUMMARY:WPC Meeting
DESCRIPTION:
URL:http://3.18.248.39/event/wpc-meeting-2/
END:VEVENT
BEGIN:VEVENT
DTSTART;VALUE=DATE:20250924
DTEND;VALUE=DATE:20250925
DTSTAMP:20260421T055037
CREATED:20250903T193044Z
LAST-MODIFIED:20250903T201025Z
UID:6365-1758672000-1758758399@3.18.248.39
SUMMARY:PT Conferences 1/2 Day for students
DESCRIPTION:
URL:http://3.18.248.39/event/migiziwag-recognition-night-lco-hayward-football/
END:VEVENT
BEGIN:VEVENT
DTSTART;VALUE=DATE:20250912
DTEND;VALUE=DATE:20250913
DTSTAMP:20260421T055037
CREATED:20250903T194910Z
LAST-MODIFIED:20250903T200911Z
UID:6380-1757635200-1757721599@3.18.248.39
SUMMARY:Migiziwag Recognition Night  LCO/Hayward Football
DESCRIPTION:
URL:http://3.18.248.39/event/migiziwag-recognition-night-lco-hayward-football-2/
END:VEVENT
BEGIN:VEVENT
DTSTART;TZID=America/Chicago:20250908T000000
DTEND;TZID=America/Chicago:20250912T235900
DTSTAMP:20260421T055037
CREATED:20250903T192907Z
LAST-MODIFIED:20250903T202500Z
UID:6363-1757289600-1757721540@3.18.248.39
SUMMARY:Ojibwe Proficiency Assessments Start  Sept 8-12
DESCRIPTION:
URL:http://3.18.248.39/event/ojibwe-proficiency-assessments-2/
END:VEVENT
BEGIN:VEVENT
DTSTART;VALUE=DATE:20241125
DTEND;VALUE=DATE:20241130
DTSTAMP:20260421T055037
CREATED:20241104T205126Z
LAST-MODIFIED:20241104T205126Z
UID:5719-1732492800-1732924799@3.18.248.39
SUMMARY:Fall Break
DESCRIPTION:
URL:http://3.18.248.39/event/fall-break/
END:VEVENT
BEGIN:VEVENT
DTSTART;VALUE=DATE:20241120
DTEND;VALUE=DATE:20241121
DTSTAMP:20260421T055037
CREATED:20241104T205040Z
LAST-MODIFIED:20241104T205040Z
UID:5717-1732060800-1732147199@3.18.248.39
SUMMARY:Parent Appreciation Dinner @ LCO Casino
DESCRIPTION:
URL:http://3.18.248.39/event/parent-appreciation-dinner-lco-casino/
END:VEVENT
BEGIN:VEVENT
DTSTART;VALUE=DATE:20241113
DTEND;VALUE=DATE:20241114
DTSTAMP:20260421T055037
CREATED:20241104T204913Z
LAST-MODIFIED:20241104T204913Z
UID:5714-1731456000-1731542399@3.18.248.39
SUMMARY:School Board Meeting
DESCRIPTION:
URL:http://3.18.248.39/event/school-board-meeting/
END:VEVENT
BEGIN:VEVENT
DTSTART;VALUE=DATE:20241112
DTEND;VALUE=DATE:20241113
DTSTAMP:20260421T055037
CREATED:20241104T204718Z
LAST-MODIFIED:20241104T204825Z
UID:5709-1731369600-1731455999@3.18.248.39
SUMMARY:Veterans Day Observed - No School
DESCRIPTION:
URL:http://3.18.248.39/event/veterans-day-observed-no-school/
END:VEVENT
BEGIN:VEVENT
DTSTART;VALUE=DATE:20241111
DTEND;VALUE=DATE:20241112
DTSTAMP:20260421T055037
CREATED:20241104T204638Z
LAST-MODIFIED:20241104T204638Z
UID:5707-1731283200-1731369599@3.18.248.39
SUMMARY:Veterans Day Powwow - No School
DESCRIPTION:
URL:http://3.18.248.39/event/veterans-day-powwow-no-school/
END:VEVENT
BEGIN:VEVENT
DTSTART;VALUE=DATE:20240528
DTEND;VALUE=DATE:20240529
DTSTAMP:20260421T055037
CREATED:20240520T213305Z
LAST-MODIFIED:20240520T213305Z
UID:4515-1716854400-1716940799@3.18.248.39
SUMMARY:Last Day for Staff
DESCRIPTION:
URL:http://3.18.248.39/event/last-day-for-staff/
END:VEVENT
BEGIN:VEVENT
DTSTART;VALUE=DATE:20240527
DTEND;VALUE=DATE:20240528
DTSTAMP:20260421T055037
CREATED:20240312T213358Z
LAST-MODIFIED:20240520T012359Z
UID:2992-1716768000-1716854399@3.18.248.39
SUMMARY:Memorial Day
DESCRIPTION:
URL:http://3.18.248.39/event/memorial-day-no-school/
END:VEVENT
BEGIN:VEVENT
DTSTART;TZID=America/Chicago:20240523T090000
DTEND;TZID=America/Chicago:20240523T110000
DTSTAMP:20260421T055037
CREATED:20240520T212552Z
LAST-MODIFIED:20240520T220414Z
UID:4513-1716454800-1716462000@3.18.248.39
SUMMARY:Waadookodaading End of Year Event - 9am  to 11am
DESCRIPTION:
URL:http://3.18.248.39/event/waadookodaading-end-of-year-event/
LOCATION:LCO Tribal Office Pavillion\, Oshkanzhiikaajigan Drive
END:VEVENT
BEGIN:VEVENT
DTSTART;VALUE=DATE:20240523
DTEND;VALUE=DATE:20240524
DTSTAMP:20260421T055037
CREATED:20240312T213454Z
LAST-MODIFIED:20240520T012043Z
UID:2994-1716422400-1716508799@3.18.248.39
SUMMARY:Last Day for All Students
DESCRIPTION:
URL:http://3.18.248.39/event/last-day-for-students-1-2-day/
END:VEVENT
BEGIN:VEVENT
DTSTART;TZID=America/Chicago:20240521T163000
DTEND;TZID=America/Chicago:20240521T183000
DTSTAMP:20260421T055037
CREATED:20240520T220828Z
LAST-MODIFIED:20240520T221006Z
UID:4526-1716309000-1716316200@3.18.248.39
SUMMARY:Gete-waabanda'iweng - Student and Kinnamon Museum Project Showcase
DESCRIPTION:
URL:http://3.18.248.39/event/gete-waabandaiweng-student-and-kinnamon-museum-project-showcase/
END:VEVENT
BEGIN:VEVENT
DTSTART;VALUE=DATE:20240517
DTEND;VALUE=DATE:20240518
DTSTAMP:20260421T055037
CREATED:20240312T213127Z
LAST-MODIFIED:20240312T213127Z
UID:2988-1715904000-1715990399@3.18.248.39
SUMMARY:Graduation Powwow
DESCRIPTION:
URL:http://3.18.248.39/event/graduation-powwow/
END:VEVENT
BEGIN:VEVENT
DTSTART;VALUE=DATE:20240513
DTEND;VALUE=DATE:20240518
DTSTAMP:20260421T055037
CREATED:20240312T213047Z
LAST-MODIFIED:20240312T213053Z
UID:2986-1715558400-1715990399@3.18.248.39
SUMMARY:Ojibwe Proficiency Assessments
DESCRIPTION:
URL:http://3.18.248.39/event/ojibwe-proficiency-assessments/
END:VEVENT
BEGIN:VEVENT
DTSTART;VALUE=DATE:20240508
DTEND;VALUE=DATE:20240509
DTSTAMP:20260421T055037
CREATED:20240312T212950Z
LAST-MODIFIED:20240312T212952Z
UID:2984-1715126400-1715212799@3.18.248.39
SUMMARY:Waadookodaading School Board Meeting
DESCRIPTION:
URL:http://3.18.248.39/event/waadookodaading-school-board-meeting-3/
END:VEVENT
BEGIN:VEVENT
DTSTART;VALUE=DATE:20240507
DTEND;VALUE=DATE:20240511
DTSTAMP:20260421T055037
CREATED:20240312T212916Z
LAST-MODIFIED:20240312T212916Z
UID:2982-1715040000-1715385599@3.18.248.39
SUMMARY:K-5 NWEA
DESCRIPTION:
URL:http://3.18.248.39/event/k-5-nwea/
END:VEVENT
BEGIN:VEVENT
DTSTART;VALUE=DATE:20240506
DTEND;VALUE=DATE:20240507
DTSTAMP:20260421T055037
CREATED:20240312T212826Z
LAST-MODIFIED:20240312T212826Z
UID:2980-1714953600-1715039999@3.18.248.39
SUMMARY:American Indian Day - No School
DESCRIPTION:
URL:http://3.18.248.39/event/american-indian-day-no-school/
END:VEVENT
END:VCALENDAR